BEGIN:VCALENDAR
VERSION:2.0
PRODID:spatie/icalendar-generator
DESCRIPTION:Events from Southern Adirondack Library System
X-WR-CALDESC:Events from Southern Adirondack Library System
REFRESH-INTERVAL;VALUE=DURATION:PT1440M
X-PUBLISHED-TTL:PT1440M
BEGIN:VTIMEZONE
TZID:America/New_York
BEGIN:STANDARD
DTSTART:20251102T020000Z
TZOFFSETFROM:-0400
TZOFFSETTO:-0500
END:STANDARD
BEGIN:DAYLIGHT
DTSTART:20260308T020000Z
TZOFFSETFROM:-0500
TZOFFSETTO:-0400
END:DAYLIGHT
END:VTIMEZONE
BEGIN:VTIMEZONE
TZID:UTC
BEGIN:STANDARD
DTSTART:20250726T103647Z
TZOFFSETFROM:+0000
TZOFFSETTO:+0000
END:STANDARD
END:VTIMEZONE
BEGIN:VEVENT
UID:157-138
DTSTAMP:20260422T103647Z
SUMMARY:Winning Library Grants: Turning Community Needs into Funded Project
 s
LOCATION:
ORGANIZER;CN=jscott:MAILTO:jscott@sals.edu
DTSTART;TZID=America/New_York:20260407T150000
DTEND;TZID=America/New_York:20260407T160000
X-ALT-DESC;FMTTYPE=TEXT/HTML:<p>If grant writing feels overwhelming\, you
 ’re not alone. Libraries everywhere are balancing limited time\, big ide
 as\, and shifting community needs. This session offers a friendly\, encour
 aging walk through a clear approach that makes the whole process more mana
 geable and more successful.</p>\n<p>Together\, we’ll explore how to iden
 tify genuine community needs\, shape them into grant project ideas\, align
  with funders\, and create a project structure that reviewers will trust. 
 We’ll look at common pitfalls\, share simple ways to stay focused\, and 
 build confidence at each stage of the grant cycle. Find out how a vague id
 ea becomes a strong\, fundable project. You’ll also see where AI tools 
 can lend a helpful hand. You’ll leave with a grounded\, repeatable proce
 ss you can rely on\, plus renewed confidence in your ability to find and a
 pply for funding that strengthens your community.</p>\n
CATEGORIES:CE Webinars
URL;VALUE=URI:https://www.sals.edu/mc-events/winning-library-grants-turning
 -community-needs-into-funded-projects/
METHOD:PUBLISH
END:VEVENT
END:VCALENDAR