BEGIN:VCALENDAR
VERSION:2.0
PRODID:spatie/icalendar-generator
DESCRIPTION:Events from Southern Adirondack Library System
X-WR-CALDESC:Events from Southern Adirondack Library System
REFRESH-INTERVAL;VALUE=DURATION:PT1440M
X-PUBLISHED-TTL:PT1440M
BEGIN:VTIMEZONE
TZID:America/New_York
BEGIN:STANDARD
DTSTART:20251102T020000Z
TZOFFSETFROM:-0400
TZOFFSETTO:-0500
END:STANDARD
BEGIN:DAYLIGHT
DTSTART:20260308T020000Z
TZOFFSETFROM:-0500
TZOFFSETTO:-0400
END:DAYLIGHT
BEGIN:STANDARD
DTSTART:20261101T020000Z
TZOFFSETFROM:-0400
TZOFFSETTO:-0500
END:STANDARD
END:VTIMEZONE
BEGIN:VTIMEZONE
TZID:UTC
BEGIN:STANDARD
DTSTART:20250725T201141Z
TZOFFSETFROM:+0000
TZOFFSETTO:+0000
END:STANDARD
END:VTIMEZONE
BEGIN:VEVENT
UID:156-137
DTSTAMP:20260421T201141Z
SUMMARY:Library Director Book Club--Getting Off to a Good Start
LOCATION:
ORGANIZER;CN=jscott:MAILTO:jscott@sals.edu
DTSTART;TZID=America/New_York:20260515T100000
DTEND;TZID=America/New_York:20260515T113000
X-ALT-DESC;FMTTYPE=TEXT/HTML:May 15: Getting Off to a Good Start\, Panel Di
 scussion with Matthew Bollerman\, CEO of the Hauppauge Public Library\; Me
 ghan Harney\, Director of the Lowville Free Library\; and Amanda Travis\, 
 Executive Director of the Mid-York Library System\, moderated by Director 
 Handbook author Rebekkah Smith Aldrich
CATEGORIES:CE Webinars
URL;VALUE=URI:https://www.sals.edu/mc-events/library-director-book-club-get
 ting-off-to-a-good-start/
METHOD:PUBLISH
END:VEVENT
END:VCALENDAR