BEGIN:VCALENDAR
VERSION:2.0
PRODID:spatie/icalendar-generator
DESCRIPTION:Events from Southern Adirondack Library System
X-WR-CALDESC:Events from Southern Adirondack Library System
REFRESH-INTERVAL;VALUE=DURATION:PT1440M
X-PUBLISHED-TTL:PT1440M
BEGIN:VTIMEZONE
TZID:America/New_York
BEGIN:STANDARD
DTSTART:20251102T020000Z
TZOFFSETFROM:-0400
TZOFFSETTO:-0500
END:STANDARD
BEGIN:DAYLIGHT
DTSTART:20260308T020000Z
TZOFFSETFROM:-0500
TZOFFSETTO:-0400
END:DAYLIGHT
BEGIN:STANDARD
DTSTART:20261101T020000Z
TZOFFSETFROM:-0400
TZOFFSETTO:-0500
END:STANDARD
END:VTIMEZONE
BEGIN:VTIMEZONE
TZID:UTC
BEGIN:STANDARD
DTSTART:20250726T024339Z
TZOFFSETFROM:+0000
TZOFFSETTO:+0000
END:STANDARD
END:VTIMEZONE
BEGIN:VEVENT
UID:158-139
DTSTAMP:20260422T024339Z
SUMMARY:How to use media and information literacy events to engage teens an
 d communities
LOCATION:
ORGANIZER;CN=jscott:MAILTO:jscott@sals.edu
DTSTART;TZID=America/New_York:20260512T150000
DTEND;TZID=America/New_York:20260512T160000
X-ALT-DESC;FMTTYPE=TEXT/HTML:How to use media and information literacy even
 ts to engage teens and communities Organizing and hosting events focused o
 n media and information literacy topics can bring together teens and the l
 arger community. Presenters will share two models\, A Day for an Informed 
 Public and Media Mentorship\, that attendees can use in their own communit
 ies. Organizing&amp;hellip\;
CATEGORIES:CE Webinars
URL;VALUE=URI:https://www.sals.edu/mc-events/how-to-use-media-and-informati
 on-literacy-events-to-engage-teens-and-communities/
METHOD:PUBLISH
END:VEVENT
END:VCALENDAR