BEGIN:VCALENDAR
VERSION:2.0
PRODID:spatie/icalendar-generator
DESCRIPTION:Events from Southern Adirondack Library System
X-WR-CALDESC:Events from Southern Adirondack Library System
REFRESH-INTERVAL;VALUE=DURATION:PT1440M
X-PUBLISHED-TTL:PT1440M
BEGIN:VTIMEZONE
TZID:America/New_York
BEGIN:STANDARD
DTSTART:20251102T020000Z
TZOFFSETFROM:-0400
TZOFFSETTO:-0500
END:STANDARD
BEGIN:DAYLIGHT
DTSTART:20260308T020000Z
TZOFFSETFROM:-0500
TZOFFSETTO:-0400
END:DAYLIGHT
BEGIN:STANDARD
DTSTART:20261101T020000Z
TZOFFSETFROM:-0400
TZOFFSETTO:-0500
END:STANDARD
END:VTIMEZONE
BEGIN:VTIMEZONE
TZID:UTC
BEGIN:STANDARD
DTSTART:20250727T003705Z
TZOFFSETFROM:+0000
TZOFFSETTO:+0000
END:STANDARD
END:VTIMEZONE
BEGIN:VEVENT
UID:159-140
DTSTAMP:20260423T003705Z
SUMMARY:Where is AI in 2026\, and Where is it Going?
LOCATION:
ORGANIZER;CN=jscott:MAILTO:jscott@sals.edu
DTSTART;TZID=America/New_York:20260521T150000
DTEND;TZID=America/New_York:20260521T160000
X-ALT-DESC;FMTTYPE=TEXT/HTML:Where is AI in 2026\, and Where is it Going? A
 I has advanced at a pace that stunned even leading experts. These systems 
 aren’t science fiction anymore—they’re reshaping work\, relationship
 s\, and even crime in real time. Join us for a fast-paced\, beginner-frien
 dly overview of today’s most powerful AI systems including AI's current 
 capabilities and AI&amp;hellip\;
CATEGORIES:CE Webinars
URL;VALUE=URI:https://www.sals.edu/mc-events/where-is-ai-in-2026-and-where-
 is-it-going/
METHOD:PUBLISH
END:VEVENT
END:VCALENDAR